BEGIN:VCALENDAR
VERSION:2.0
PRODID:-//Ville de Aire-sur-la-Lys - ECPv6.15.3//NONSGML v1.0//EN
CALSCALE:GREGORIAN
METHOD:PUBLISH
X-WR-CALNAME:Ville de Aire-sur-la-Lys
X-ORIGINAL-URL:https://www.ville-airesurlalys.fr
X-WR-CALDESC:Évènements pour Ville de Aire-sur-la-Lys
REFRESH-INTERVAL;VALUE=DURATION:PT1H
X-Robots-Tag:noindex
X-PUBLISHED-TTL:PT1H
BEGIN:VTIMEZONE
TZID:Europe/Paris
BEGIN:DAYLIGHT
TZOFFSETFROM:+0100
TZOFFSETTO:+0200
TZNAME:CEST
DTSTART:20260329T010000
END:DAYLIGHT
BEGIN:STANDARD
TZOFFSETFROM:+0200
TZOFFSETTO:+0100
TZNAME:CET
DTSTART:20261025T010000
END:STANDARD
END:VTIMEZONE
BEGIN:VEVENT
DTSTART;TZID=Europe/Paris:20260429T150000
DTEND;TZID=Europe/Paris:20260429T170000
DTSTAMP:20260420T193942
CREATED:20260420T092334Z
LAST-MODIFIED:20260420T092658Z
UID:19724-1777474800-1777482000@www.ville-airesurlalys.fr
SUMMARY:Cinéma : Super Mario Galaxy le film
DESCRIPTION:Séances le mercredi 29 avril à 15h\, le jeudi 30 avril à 15h et le dimanche 3 mai à 15h \nFilm d’animation de Aaron Horvath et Michael Jelenic\nUSA | 2026 |1h38\nConseillé à partir de 6 ans \nAu-delà du Royaume Champignon\, Mario\, Luigi et Yoshi voyagent à travers les galaxies aux côtés de Rosalina pour arrêter Bowser Jr.\, dont la tentative de sauver son père menace l’équilibre de l’univers. \nTarif unique : 4€ \nLa billetterie ouvre 45 mn avant le début de la projection. Le cinéma ne prend aucune réservation. \nPAIEMENTS ACCEPTÉS : Espèces | Cartes bancaires | Chèques | Chèques-vacances | Chèques-cinéma | Chèques-culture | Ciné-chèques universels
URL:https://www.ville-airesurlalys.fr/evenement/cinema-super-mario-galaxy-le-film/
LOCATION:Espace Culturel Area\, Place du Château\, Aire sur la Lys\, 62120
CATEGORIES:Culture
ATTACH;FMTTYPE=image/jpeg:https://www.ville-airesurlalys.fr/wp-content/uploads/2026/04/MARIO-GALAXY-AFFICHE.jpg
END:VEVENT
BEGIN:VEVENT
DTSTART;TZID=Europe/Paris:20260429T200000
DTEND;TZID=Europe/Paris:20260429T220000
DTSTAMP:20260420T193942
CREATED:20260420T091800Z
LAST-MODIFIED:20260420T091800Z
UID:19716-1777492800-1777500000@www.ville-airesurlalys.fr
SUMMARY:Cinéma : Le crime du 3ème étage
DESCRIPTION:Séances le mercredi 29 avril à 20h et le jeudi 30 avril à 10h30 \nComédie dramatique de Rémi Bezançon\nFRANCE | 2026 | 1h44\nAvec Gilles Lellouche\, Laetitia Casta\, Guillaume Gallienne\, Isabel Aimé Gonzalez Sola… \nColette\, professeure de cinéma spécialisée dans l’oeuvre de Hitchcock\, soupçonne son nouveau voisin d’en face d’avoir tué sa femme. Son mari\, François\, écrivain de romans historico-policiers un peu désuets\, est d’abord sceptique face à l’obsession de Colette pour ce prétendu crime. Il se laisse cependant embarquer dans\ncette enquête rocambolesque \nTarif unique : 4€ \nLa billetterie ouvre 45 mn avant le début de la projection. Le cinéma ne prend aucune réservation. \nPAIEMENTS ACCEPTÉS : Espèces | Cartes bancaires | Chèques | Chèques-vacances | Chèques-cinéma | Chèques-culture | Ciné-chèques universels
URL:https://www.ville-airesurlalys.fr/evenement/cinema-le-crime-du-3eme-etage/
LOCATION:Espace Culturel Area\, Place du Château\, Aire sur la Lys\, 62120
CATEGORIES:Culture
ATTACH;FMTTYPE=image/jpeg:https://www.ville-airesurlalys.fr/wp-content/uploads/2026/04/LE-CRIME-DU-3EME-ETAGE-AFFICHE.jpg
END:VEVENT
END:VCALENDAR