BEGIN:VCALENDAR
VERSION:2.0
PRODID:-//Ville de Aire-sur-la-Lys - ECPv6.15.3//NONSGML v1.0//EN
CALSCALE:GREGORIAN
METHOD:PUBLISH
X-WR-CALNAME:Ville de Aire-sur-la-Lys
X-ORIGINAL-URL:https://www.ville-airesurlalys.fr
X-WR-CALDESC:Évènements pour Ville de Aire-sur-la-Lys
REFRESH-INTERVAL;VALUE=DURATION:PT1H
X-Robots-Tag:noindex
X-PUBLISHED-TTL:PT1H
BEGIN:VTIMEZONE
TZID:Europe/Paris
BEGIN:DAYLIGHT
TZOFFSETFROM:+0100
TZOFFSETTO:+0200
TZNAME:CEST
DTSTART:20260329T010000
END:DAYLIGHT
BEGIN:STANDARD
TZOFFSETFROM:+0200
TZOFFSETTO:+0100
TZNAME:CET
DTSTART:20261025T010000
END:STANDARD
END:VTIMEZONE
BEGIN:VEVENT
DTSTART;VALUE=DATE:20260425
DTEND;VALUE=DATE:20260426
DTSTAMP:20260420T175434
CREATED:20260420T130724Z
LAST-MODIFIED:20260420T130724Z
UID:19744-1777075200-1777161599@www.ville-airesurlalys.fr
SUMMARY:Journées des Espaces Fortifiés
DESCRIPTION:Dans le cadre des Journées des Espaces Fortifiés\, la Ville d’Aire-sur-la-Lys vous invite à découvrir ou redécouvrir l’histoire fascinante de ses fortifications à travers une journée riche en découvertes. \n Samedi 25 avril 2026 \n Visites guidées pédestres\n➡️ Sur les traces des fortifications – départ du Bailliage à 14h\n➡️ Aire Portes – départ Place Jehan d’Aire à 14h30 \n⚠️ Réservation obligatoire pour les visites auprès de l’Association Aire Animation Patrimoine\n 06 05 01 02 19 ou 06 61 56 50 73 \n Conférence : « Les fortifications airoises des origines au démantèlement de l’an 900 à 1893 »\nAnimée par Gérard Aubert\, historien local\n À 16h30 – Salle de l’Amitié à l’Hôtel de Ville\n️ Entrée gratuite \n️ Exposition : « Les plans des sièges de la ville d’Aire-sur-la-Lys : 1641\, 1676\, 1710\, Plan du génie : 1750 »\n De 14h à 18h – Salle de l’Amitié à l’Hôtel de Ville \n✨ Animations gratuites \nVenez nombreux partager ce moment de découverte autour de l’histoire et du patrimoine de notre belle ville.
URL:https://www.ville-airesurlalys.fr/evenement/journees-des-espaces-fortifies-2/
CATEGORIES:Culture
ATTACH;FMTTYPE=image/png:https://www.ville-airesurlalys.fr/wp-content/uploads/2026/04/LES-ESPACES-FORTIFIES-9.png
END:VEVENT
BEGIN:VEVENT
DTSTART;TZID=Europe/Paris:20260426T090000
DTEND;TZID=Europe/Paris:20260426T170000
DTSTAMP:20260420T175434
CREATED:20260420T131204Z
LAST-MODIFIED:20260420T131231Z
UID:19747-1777194000-1777222800@www.ville-airesurlalys.fr
SUMMARY:2ème édition de la brocante autour du jardin à Moulin le Comte
DESCRIPTION:Avis aux passionnés de jardinage\, chineurs et amoureux de nature ! Le comité des fêtes de Moulin le Comte vous donne rendez-vous ce dimanche 26 avril\, rue de la Lys\, de 9h à 17h pour la 2ᵉ édition de la Brocante sur le thème du Jardin \nVenez dénicher outils\, plantes\, objets de décoration extérieure et trésors pour embellir vos jardins et terrasses. \nTarif exposants : 1\,50 € le mètre\n⚠️ Paiement obligatoire lors de la réservation\nRéservations : 06 13 14 16 21 \n☕ Une buvette sera également sur place pour partager un moment chaleureux entre visiteurs et exposants. \nUn rendez-vous à ne pas manquer pour célébrer le retour des beaux jours à Aire-sur-la-Lys !
URL:https://www.ville-airesurlalys.fr/evenement/2eme-edition-de-la-brocante-autour-du-jardin-a-moulin-le-comte/
LOCATION:Rue de la Lys\, Rue de la Lys - Moulin le Comte\, Aire-sur-la-Lys\, 62120
CATEGORIES:Brocantes
ATTACH;FMTTYPE=image/jpeg:https://www.ville-airesurlalys.fr/wp-content/uploads/2026/04/Brocante-jardin-2026-scaled.jpg
END:VEVENT
BEGIN:VEVENT
DTSTART;TZID=Europe/Paris:20260428T183000
DTEND;TZID=Europe/Paris:20260428T213000
DTSTAMP:20260420T175434
CREATED:20260319T093559Z
LAST-MODIFIED:20260319T093611Z
UID:19597-1777401000-1777411800@www.ville-airesurlalys.fr
SUMMARY:Ciné-conférence de l'école d'Art : Lee Miller
DESCRIPTION:Séance  le mardi 28 avril à 18h30 – Conférence artistique d’environ 1h\, organisée par l’Ecole d’Art\, suivie de la projection du film. \nCiné-conf de l’école d’Art\nBiopic de Ellen Kuras\nUSA – U.K | 2024 | 1h57 \nL’incroyable vie de LEE MILLER\, ex-modèle pour Vogue et muse de Man Ray devenue l’une des premières femmes photographes de guerre. Partie sur le front et prête à tout pour témoigner des horreurs de la Seconde Guerre\, elle a\, par son courage et son refus des conventions\, changé la façon de voir le monde. \nTarif unique : 4€ \nLa billetterie ouvre 45 mn avant le début de la projection. Le cinéma ne prend aucune réservation. \nPAIEMENTS ACCEPTÉS : Espèces | Cartes bancaires | Chèques | Chèques-vacances | Chèques-cinéma | Chèques-culture | Ciné-chèques universels
URL:https://www.ville-airesurlalys.fr/evenement/cine-conference-de-lecole-dart-lee-miller/
LOCATION:Espace Culturel Area\, Place du Château\, Aire sur la Lys\, 62120
CATEGORIES:Culture
ATTACH;FMTTYPE=image/jpeg:https://www.ville-airesurlalys.fr/wp-content/uploads/2026/03/LEE-MILLER-AFFICHE.jpg
END:VEVENT
BEGIN:VEVENT
DTSTART;TZID=Europe/Paris:20260429T150000
DTEND;TZID=Europe/Paris:20260429T170000
DTSTAMP:20260420T175434
CREATED:20260420T092334Z
LAST-MODIFIED:20260420T092658Z
UID:19724-1777474800-1777482000@www.ville-airesurlalys.fr
SUMMARY:Cinéma : Super Mario Galaxy le film
DESCRIPTION:Séances le mercredi 29 avril à 15h\, le jeudi 30 avril à 15h et le dimanche 3 mai à 15h \nFilm d’animation de Aaron Horvath et Michael Jelenic\nUSA | 2026 |1h38\nConseillé à partir de 6 ans \nAu-delà du Royaume Champignon\, Mario\, Luigi et Yoshi voyagent à travers les galaxies aux côtés de Rosalina pour arrêter Bowser Jr.\, dont la tentative de sauver son père menace l’équilibre de l’univers. \nTarif unique : 4€ \nLa billetterie ouvre 45 mn avant le début de la projection. Le cinéma ne prend aucune réservation. \nPAIEMENTS ACCEPTÉS : Espèces | Cartes bancaires | Chèques | Chèques-vacances | Chèques-cinéma | Chèques-culture | Ciné-chèques universels
URL:https://www.ville-airesurlalys.fr/evenement/cinema-super-mario-galaxy-le-film/
LOCATION:Espace Culturel Area\, Place du Château\, Aire sur la Lys\, 62120
CATEGORIES:Culture
ATTACH;FMTTYPE=image/jpeg:https://www.ville-airesurlalys.fr/wp-content/uploads/2026/04/MARIO-GALAXY-AFFICHE.jpg
END:VEVENT
BEGIN:VEVENT
DTSTART;TZID=Europe/Paris:20260429T200000
DTEND;TZID=Europe/Paris:20260429T220000
DTSTAMP:20260420T175434
CREATED:20260420T091800Z
LAST-MODIFIED:20260420T091800Z
UID:19716-1777492800-1777500000@www.ville-airesurlalys.fr
SUMMARY:Cinéma : Le crime du 3ème étage
DESCRIPTION:Séances le mercredi 29 avril à 20h et le jeudi 30 avril à 10h30 \nComédie dramatique de Rémi Bezançon\nFRANCE | 2026 | 1h44\nAvec Gilles Lellouche\, Laetitia Casta\, Guillaume Gallienne\, Isabel Aimé Gonzalez Sola… \nColette\, professeure de cinéma spécialisée dans l’oeuvre de Hitchcock\, soupçonne son nouveau voisin d’en face d’avoir tué sa femme. Son mari\, François\, écrivain de romans historico-policiers un peu désuets\, est d’abord sceptique face à l’obsession de Colette pour ce prétendu crime. Il se laisse cependant embarquer dans\ncette enquête rocambolesque \nTarif unique : 4€ \nLa billetterie ouvre 45 mn avant le début de la projection. Le cinéma ne prend aucune réservation. \nPAIEMENTS ACCEPTÉS : Espèces | Cartes bancaires | Chèques | Chèques-vacances | Chèques-cinéma | Chèques-culture | Ciné-chèques universels
URL:https://www.ville-airesurlalys.fr/evenement/cinema-le-crime-du-3eme-etage/
LOCATION:Espace Culturel Area\, Place du Château\, Aire sur la Lys\, 62120
CATEGORIES:Culture
ATTACH;FMTTYPE=image/jpeg:https://www.ville-airesurlalys.fr/wp-content/uploads/2026/04/LE-CRIME-DU-3EME-ETAGE-AFFICHE.jpg
END:VEVENT
BEGIN:VEVENT
DTSTART;TZID=Europe/Paris:20260430T103000
DTEND;TZID=Europe/Paris:20260430T123000
DTSTAMP:20260420T175434
CREATED:20260420T091903Z
LAST-MODIFIED:20260420T091903Z
UID:19718-1777545000-1777552200@www.ville-airesurlalys.fr
SUMMARY:Cinéma : Le crime du 3ème étage
DESCRIPTION:Séances le mercredi 29 avril à 20h et le jeudi 30 avril à 10h30 \nComédie dramatique de Rémi Bezançon\nFRANCE | 2026 | 1h44\nAvec Gilles Lellouche\, Laetitia Casta\, Guillaume Gallienne\, Isabel Aimé Gonzalez Sola… \nColette\, professeure de cinéma spécialisée dans l’oeuvre de Hitchcock\, soupçonne son nouveau voisin d’en face d’avoir tué sa femme. Son mari\, François\, écrivain de romans historico-policiers un peu désuets\, est d’abord sceptique face à l’obsession de Colette pour ce prétendu crime. Il se laisse cependant embarquer dans\ncette enquête rocambolesque \nTarif unique : 4€ \nLa billetterie ouvre 45 mn avant le début de la projection. Le cinéma ne prend aucune réservation. \nPAIEMENTS ACCEPTÉS : Espèces | Cartes bancaires | Chèques | Chèques-vacances | Chèques-cinéma | Chèques-culture | Ciné-chèques universels
URL:https://www.ville-airesurlalys.fr/evenement/cinema-le-crime-du-3eme-etage-2/
LOCATION:Espace Culturel Area\, Place du Château\, Aire sur la Lys\, 62120
CATEGORIES:Culture
ATTACH;FMTTYPE=image/jpeg:https://www.ville-airesurlalys.fr/wp-content/uploads/2026/04/LE-CRIME-DU-3EME-ETAGE-AFFICHE.jpg
END:VEVENT
BEGIN:VEVENT
DTSTART;TZID=Europe/Paris:20260430T150000
DTEND;TZID=Europe/Paris:20260430T170000
DTSTAMP:20260420T175434
CREATED:20260420T092454Z
LAST-MODIFIED:20260420T092714Z
UID:19726-1777561200-1777568400@www.ville-airesurlalys.fr
SUMMARY:Cinéma : Super Mario Galaxy le film
DESCRIPTION:Séances le mercredi 29 avril à 15h\, le jeudi 30 avril à 15h et le dimanche 3 mai à 15h \nFilm d’animation de Aaron Horvath et Michael Jelenic\nUSA | 2026 |1h38\nConseillé à partir de 6 ans \nAu-delà du Royaume Champignon\, Mario\, Luigi et Yoshi voyagent à travers les galaxies aux côtés de Rosalina pour arrêter Bowser Jr.\, dont la tentative de sauver son père menace l’équilibre de l’univers. \nTarif unique : 4€ \nLa billetterie ouvre 45 mn avant le début de la projection. Le cinéma ne prend aucune réservation. \nPAIEMENTS ACCEPTÉS : Espèces | Cartes bancaires | Chèques | Chèques-vacances | Chèques-cinéma | Chèques-culture | Ciné-chèques universels
URL:https://www.ville-airesurlalys.fr/evenement/cinema-super-mario-galaxy-le-film-2/
LOCATION:Espace Culturel Area\, Place du Château\, Aire sur la Lys\, 62120
CATEGORIES:Culture
ATTACH;FMTTYPE=image/jpeg:https://www.ville-airesurlalys.fr/wp-content/uploads/2026/04/MARIO-GALAXY-AFFICHE.jpg
END:VEVENT
BEGIN:VEVENT
DTSTART;TZID=Europe/Paris:20260430T200000
DTEND;TZID=Europe/Paris:20260430T230000
DTSTAMP:20260420T175434
CREATED:20260420T092015Z
LAST-MODIFIED:20260420T092015Z
UID:19720-1777579200-1777590000@www.ville-airesurlalys.fr
SUMMARY:Cinéma : Projet dernière chance
DESCRIPTION:Séances le jeudi 30 avril à 20h et le dimanche 3 mai à 17h30 \nScience-fiction de Phil Lord et Christopher Miller\nUSA | 2026| 2h37\nAvec Ryan Gosling\, Sandra Hüller\, Milana Vayntrub\, Lionel Boyce \nRyland Grace\, professeur de sciences\, se réveille seul à bord d’un vaisseau spatial\, à des années-lumière de la Terre\, sans aucun souvenir de son identité ni des raisons de sa présence à bord. Peu à peu\, sa mémoire lui revient\, et il comprend l’enjeu de sa mission : résoudre l’énigme de la mystérieuse substance qui cause\nl’extinction du Soleil. Pour tenter de sauver l’humanité\, il va devoir faire appel à ses connaissances scientifiques et à des idées peu conventionnelles … \nTarif unique : 4€ \nLa billetterie ouvre 45 mn avant le début de la projection. Le cinéma ne prend aucune réservation. \nPAIEMENTS ACCEPTÉS : Espèces | Cartes bancaires | Chèques | Chèques-vacances | Chèques-cinéma | Chèques-culture | Ciné-chèques universels
URL:https://www.ville-airesurlalys.fr/evenement/cinema-projet-derniere-chance/
LOCATION:Espace Culturel Area\, Place du Château\, Aire sur la Lys\, 62120
CATEGORIES:Culture
ATTACH;FMTTYPE=image/jpeg:https://www.ville-airesurlalys.fr/wp-content/uploads/2026/04/Pojet-derniere-chance-Affiche.jpg
END:VEVENT
END:VCALENDAR